BEGIN:VCALENDAR
VERSION:2.0
PRODID:TU Chemnitz
METHOD:PUBLISH
X-WR-CALNAME:Veranstaltungen der TU Chemnitz
X-WR-TIMEZONE:Europe/Berlin
BEGIN:VEVENT
CLASS:PUBLIC
DTSTART;TZID="Europe/Berlin":20061216T203000
DTEND;TZID="Europe/Berlin":20061217T040000
LOCATION:KAPITAL Chemnitz
SUMMARY:KLUB MOSKAU (Initiative Europastudien e.V.)
DESCRIPTION:KLUB MOSKAU 2 - 16.12.2006\n\n20.30: Vortrag - Russland unter Putin - Berichte aus dem russischen Alltag - Eintritt frei!\n\n22.00: Klub Moskau 2 - Alternative Russenparty mit DJ Schum aus Moskau - Eintritt 3€!
ORGANIZER:MAILTO:ies@tu-chemnitz.de
UID:8080@www.tu-chemnitz.de
CREATED:20061212T233100Z
DTSTAMP:20210802T195127Z
END:VEVENT
END:VCALENDAR
