BEGIN:VCALENDAR
VERSION:2.0
PRODID:TU Chemnitz
METHOD:PUBLISH
X-WR-CALNAME:Veranstaltungen der TU Chemnitz
X-WR-TIMEZONE:Europe/Berlin
BEGIN:VEVENT
CLASS:PUBLIC
DTSTART;TZID="Europe/Berlin":20070301T090000
DTEND;TZID="Europe/Berlin":20070301T180000
LOCATION:Kongresszentrum\, Festplatz 9\, 76137 Karlsruhe
SUMMARY:Workshop "Integriertes Informationsmanagement an Hochschulen - Quo Vadis Universität 2.0?" (Fakultät für Informatik\, Verteilte und Selbstorganisierende Rechnersysteme)
DESCRIPTION:Der Workshop stellt den aktuellen Stand der Technik und die damit verbundenen Erfahrungen vor. Es werden Schwerpunktthemen identifiziert und eine gemeinsame Vision zum integrierten Informationsmanagement an den Hochschulen geprägt.\nDr.-Ing. Martin Gaedke. Tel. (0371) 531-25530. gaedke@informatik.tu-chemnitz.de
ORGANIZER:MAILTO:gaedke@informatik.tu-chemnitz.de
UID:8074@www.tu-chemnitz.de
CREATED:20061211T151100Z
DTSTAMP:20210802T195039Z
END:VEVENT
END:VCALENDAR
