BEGIN:VCALENDAR
VERSION:2.0
PRODID:TU Chemnitz
METHOD:PUBLISH
X-WR-CALNAME:Veranstaltungen der TU Chemnitz
X-WR-TIMEZONE:Europe/Berlin
BEGIN:VEVENT
CLASS:PUBLIC
DTSTART;TZID="Europe/Berlin":20061214T190000
DTEND;TZID="Europe/Berlin":20061214T190000
LOCATION:Vettersstr. 70/72\, Chemnitz (Studentenwohnheim)
SUMMARY:Weihnachtsfeier der Informatiker (Fakultät für Informatik\, Fachschaftsrat)
DESCRIPTION:Unsere traditionellen Weihnachtsfeier mit weihnachtlichen Leckereien und Glühwein findet dieses Mal im gemütlichen Studentenclub FPM statt. \nBitte eine Tasse mitbringen!
ORGANIZER:MAILTO:anschu@hrz.tu-chemnitz.de
UID:8071@www.tu-chemnitz.de
CREATED:20061211T090700Z
DTSTAMP:20210802T195133Z
END:VEVENT
END:VCALENDAR
