BEGIN:VCALENDAR
VERSION:2.0
PRODID:TU Chemnitz
METHOD:PUBLISH
X-WR-CALNAME:Veranstaltungen der TU Chemnitz
X-WR-TIMEZONE:Europe/Berlin
BEGIN:VEVENT
CLASS:PUBLIC
DTSTART;TZID="Europe/Berlin":20061212T153000
DTEND;TZID="Europe/Berlin":20061212T170000
LOCATION:Reichenhainer Str. 90\, Chemnitz (Zentr. Hörsaal- und Seminargebäude)
SUMMARY:"The Making of 'Wolfsjagd'. Anmerkungen zur Produktion eines visuellen Hörstücks" (Philosophische Fakultät\, Neuere Deutsche Literaturwissenschaft\, Prof. Dr. Günter Peters)
DESCRIPTION:Carola Wiesner\, Steve Wohlfahrt - Artemis. Institut für Hörkunst
ORGANIZER:MAILTO:guenter.peters@phil.tu-chemnitz.de
UID:8064@www.tu-chemnitz.de
CREATED:20061206T161500Z
DTSTAMP:20210802T195135Z
END:VEVENT
END:VCALENDAR
