BEGIN:VCALENDAR
VERSION:2.0
PRODID:TU Chemnitz
METHOD:PUBLISH
X-WR-CALNAME:Veranstaltungen der TU Chemnitz
X-WR-TIMEZONE:Europe/Berlin
BEGIN:VEVENT
CLASS:PUBLIC
DTSTART;TZID="Europe/Berlin":20061212T200000
DTEND;TZID="Europe/Berlin":20061213T040000
LOCATION:PEB Studentenkeller
SUMMARY:Weihnachtsparty (FSR MB & FSR Phil)
DESCRIPTION:FSR MB und FSR Phil schmeißen eine große Weihnachtsparty im PEB! Glühwein kostenlos\, der Rest ein Euro\, Eintritt ebenso. Musik: Indie-Rock'n'Pop & Hip-Hop. (Die Dozenten sind natürlich auch eingeladen!)\nfsrphil@tu-chemnitz.de\, fsrmb@tu-chemnitz.de
ORGANIZER:MAILTO:gens@tu-chemnitz.de
UID:8060@www.tu-chemnitz.de
CREATED:20061205T143900Z
DTSTAMP:20210802T195133Z
END:VEVENT
END:VCALENDAR
