BEGIN:VCALENDAR
VERSION:2.0
PRODID:TU Chemnitz
METHOD:PUBLISH
X-WR-CALNAME:Veranstaltungen der TU Chemnitz
X-WR-TIMEZONE:Europe/Berlin
BEGIN:VEVENT
CLASS:PUBLIC
DTSTART;TZID="Europe/Berlin":19991120T100000
DTEND;TZID="Europe/Berlin":19991120T100000
LOCATION:Uni-Teil 1: Bahnhofstr. 8\, Chemnitz (Int. Begegnungs- und Informationszentrum)
SUMMARY:5. Agricola-Gespräch  (Philosophische Fakultät\, + Agricola-Forschungszentrum Chemnitz)
DESCRIPTION:Suhling: Agricola und die Hüttentechnik seiner Zeit. \nWild: Auf der Suche nach einer Probiervorschrift aus dem 16. Jh.\nMarx: Chemie zur Zeit Agricolas.\nAckermann: Analytik mit dem Lötrohr.\nHammer: Das Probieren der Münzmetalle\n\nAm Abend Meeting im Alsace\nProf. F. Naumann\, Prof. L. Suhling\, Manfred Wild\, Prof. G. Marx\, Prof. G. Ackermann\, Dr. P. Hammer\nProf. Dr. F. Naumann Tel. (03712) 531 4061/4387
ORGANIZER:MAILTO:fna@hrz.tu-chemnitz.de
UID:806@www.tu-chemnitz.de
CREATED:19991027T162700Z
DTSTAMP:20210802T203258Z
END:VEVENT
END:VCALENDAR
