BEGIN:VCALENDAR
VERSION:2.0
PRODID:TU Chemnitz
METHOD:PUBLISH
X-WR-CALNAME:Veranstaltungen der TU Chemnitz
X-WR-TIMEZONE:Europe/Berlin
BEGIN:VEVENT
CLASS:PUBLIC
DTSTART;TZID="Europe/Berlin":19991124T133000
DTEND;TZID="Europe/Berlin":19991124T150000
LOCATION:Uni-Teil 3: Reichenhainer Str. 70\, Chemnitz (Rühlmann-Bau)
SUMMARY:Arbeit und Studium in Europa (TU Chemnitz\, Arbeitsamt Chemnitz)
DESCRIPTION:Studenten-Zeitjob-Vermittlung; der Berufseinstieg\nTelefon: (03 71)5 67-22 40
ORGANIZER:MAILTO:iroe@hrz.tu-chemnitz.de
UID:804@www.tu-chemnitz.de
CREATED:19991027T150400Z
DTSTAMP:20210802T203300Z
END:VEVENT
END:VCALENDAR
