BEGIN:VCALENDAR
VERSION:2.0
PRODID:TU Chemnitz
METHOD:PUBLISH
X-WR-CALNAME:Veranstaltungen der TU Chemnitz
X-WR-TIMEZONE:Europe/Berlin
BEGIN:VEVENT
CLASS:PUBLIC
DTSTART;TZID="Europe/Berlin":20061130T190000
DTEND;TZID="Europe/Berlin":20061130T233000
LOCATION:Reichenhainer Str. 55\, Chemnitz (Mensa)
SUMMARY:Unifilm - "Ice Age 2" + "Ab durch die Hecke" (Unifilm Chemnitz)
DESCRIPTION:Es lebe die Animations-Komödie. Gleich 2 sehr gelungene Exemplare dieses Genres gibt es heute Abend im TaC zu sehen. Nicht nur fürs kleine Publikum ein riesen Spaß. Film 2 ab ca. 21.45 Uhr.\nEinlass: 19:00 Uhr | Beginn: 20:00 Uhr | Eintritt: 2\,00 €
ORGANIZER:MAILTO:frsche@hrz.tu-chemnitz.de
UID:8034@www.tu-chemnitz.de
CREATED:20061128T121000Z
DTSTAMP:20210802T195144Z
END:VEVENT
END:VCALENDAR
