BEGIN:VCALENDAR
VERSION:2.0
PRODID:TU Chemnitz
METHOD:PUBLISH
X-WR-CALNAME:Veranstaltungen der TU Chemnitz
X-WR-TIMEZONE:Europe/Berlin
BEGIN:VEVENT
CLASS:PUBLIC
DTSTART;TZID="Europe/Berlin":20061214T150000
DTEND;TZID="Europe/Berlin":20061216T150000
LOCATION:Hotel Chemnitzer Hof\, Theaterplatz 4\, 09111 Chemnitz
SUMMARY:Europas verlorene und wiedergewonnene Mitte (Philosophische Fakultät\, Professur für Europäische Geschichte des 19. und 20. Jahrhunderts)
DESCRIPTION:Die Auflösung des Heiligen Römischen Reiches Deutscher Nation jährt sich 2006 zum 200. Mal. Auf der Tagung soll den langfristigen Folgen nachgegangen werden\, die das Reichsende 1806 für die Entstehung des Nationalitätenproblems in Ostmitteleuropa hatte.\nWissenschaftliche Leitung: Prof. Dr. Frank-Lothar Kroll\nFrau Patricia Otto\, patricia.otto@phil.tu-chemnitz.de
ORGANIZER:MAILTO:hendrik.thoss@phil.tu-chemnitz.de
UID:8029@www.tu-chemnitz.de
CREATED:20061127T143200Z
DTSTAMP:20210802T195132Z
END:VEVENT
END:VCALENDAR
