BEGIN:VCALENDAR
VERSION:2.0
PRODID:TU Chemnitz
METHOD:PUBLISH
X-WR-CALNAME:Veranstaltungen der TU Chemnitz
X-WR-TIMEZONE:Europe/Berlin
BEGIN:VEVENT
CLASS:PUBLIC
DTSTART;TZID="Europe/Berlin":20061123T200000
DTEND;TZID="Europe/Berlin":20061123T220000
LOCATION:Reichenhainer Str. 55\, Chemnitz (Mensa)
SUMMARY:Dia-Vortrag: Mike Glänzel - Costa Rica
DESCRIPTION:Costa Rica\, bekannt für Kaffee und Bananen.\nMike Glänzel war dort und berichtet seine Erfahrungen und zeigt Bilder seiner Reise.\nUns erwarten mehr als Vulkane\, Regenwald und Meer.\nEintritt wird noch bekanntgegeben\nMike Glänzel
ORGANIZER:MAILTO:elix@hrz.tu-chemnitz.de
UID:8010@www.tu-chemnitz.de
CREATED:20061121T091800Z
DTSTAMP:20210802T195144Z
END:VEVENT
END:VCALENDAR
