BEGIN:VCALENDAR
VERSION:2.0
PRODID:TU Chemnitz
METHOD:PUBLISH
X-WR-CALNAME:Veranstaltungen der TU Chemnitz
X-WR-TIMEZONE:Europe/Berlin
BEGIN:VEVENT
CLASS:PUBLIC
DTSTART;TZID="Europe/Berlin":20061213T134500
DTEND;TZID="Europe/Berlin":20061213T151500
LOCATION:Reichenhainer Str. 70\, Chemnitz (Rühlmann-Bau)
SUMMARY:Nutzerforum des URZ: "WXPSelfAdmin - ein neuer Dienst des URZ" (Universitätsrechenzentrum)
DESCRIPTION:Vorstellung und Diskussion eines neuen Dienstes für Windows-XP-Arbeitsplätze; das URZ übernimmt Installation\, Konfiguration u. regelmäßige Aktualisierung; der Betreiber darf bestimmte administrative Aufgaben selbst übernehmen.\nDipl.Ing. Christoph Ziegler
ORGANIZER:MAILTO:rosita.pudlat@hrz.tu-chemnitz.de
UID:8002@www.tu-chemnitz.de
CREATED:20061117T094500Z
DTSTAMP:20210802T195132Z
END:VEVENT
END:VCALENDAR
