BEGIN:VCALENDAR
VERSION:2.0
PRODID:TU Chemnitz
METHOD:PUBLISH
X-WR-CALNAME:Veranstaltungen der TU Chemnitz
X-WR-TIMEZONE:Europe/Berlin
BEGIN:VEVENT
CLASS:PUBLIC
DTSTART;TZID="Europe/Berlin":20061116T210000
DTEND;TZID="Europe/Berlin":20061116T235900
LOCATION:Kino\, Reichenhainer Str. 35/37\, Keller
SUMMARY:[Kino * "mittendrin"] DR. SELTSAM ODER WIE ICH LERNTE DIE BOMBE ZU LIEBEN (Filmclub »mittendrin«)
DESCRIPTION:Die Übermutter aller Kriegssatiren\, und die bitterböseste noch dazu: Während des kalten Krieges flippt ein General Jack D. Ripper aus und schickt eine Staffel Atombombenflugzeuge auf Russland...\nPeter Sellers - brilliant - in drei Rollen!!
ORGANIZER:MAILTO:schneide@hrz.tu-chemnitz.de
UID:7991@www.tu-chemnitz.de
CREATED:20061113T214100Z
DTSTAMP:20210802T195158Z
END:VEVENT
END:VCALENDAR
