BEGIN:VCALENDAR
VERSION:2.0
PRODID:TU Chemnitz
METHOD:PUBLISH
X-WR-CALNAME:Veranstaltungen der TU Chemnitz
X-WR-TIMEZONE:Europe/Berlin
BEGIN:VEVENT
CLASS:PUBLIC
DTSTART;TZID="Europe/Berlin":20061112T140000
DTEND;TZID="Europe/Berlin":20061112T200000
LOCATION:Reichenhainer Str. 55\, Chemnitz (Mensa)
SUMMARY:Fussball Bundesliga
DESCRIPTION:Heute ab 14 Uhr live auf Großleinwand das Zweitligaduell zwischen Aue und Jena. Im Anschluß die Bundesligakonferenz mit Hannover gegen Stuttgart und Aachen gegen Nürnberg
ORGANIZER:MAILTO:piek@hrz.tu-chemnitz.de
UID:7989@www.tu-chemnitz.de
CREATED:20061112T112300Z
DTSTAMP:20210802T195153Z
END:VEVENT
END:VCALENDAR
