BEGIN:VCALENDAR
VERSION:2.0
PRODID:TU Chemnitz
METHOD:PUBLISH
X-WR-CALNAME:Veranstaltungen der TU Chemnitz
X-WR-TIMEZONE:Europe/Berlin
BEGIN:VEVENT
CLASS:PUBLIC
DTSTART;TZID="Europe/Berlin":20061114T200000
DTEND;TZID="Europe/Berlin":20061114T200000
LOCATION:Club der Kulturen (Kompass)
SUMMARY:FACES OF JAZZ (Club der Kulturen)
DESCRIPTION:Auftakt der monatlichen Livemusik-Reihe FACES OF JAZZ mit "Weisse Amsel Trio" (J. Vidner sax\, J. Schneider perc\, T. Bocklisch git)   offene Jam-Session. Backline steht\, ein Freigetränk für jeden Mitspieler. "Kommen! Hören! Spielen!?" (Earl Mobyley)\nMark Schreiber\, Tel. 34254\, mark.schreiber@phil.tu-chemnitz.de
ORGANIZER:MAILTO:mark.schreiber@phil.tu-chemnitz.de
UID:7984@www.tu-chemnitz.de
CREATED:20061110T141200Z
DTSTAMP:20210802T195158Z
END:VEVENT
END:VCALENDAR
