BEGIN:VCALENDAR
VERSION:2.0
PRODID:TU Chemnitz
METHOD:PUBLISH
X-WR-CALNAME:Veranstaltungen der TU Chemnitz
X-WR-TIMEZONE:Europe/Berlin
BEGIN:VEVENT
CLASS:PUBLIC
DTSTART;TZID="Europe/Berlin":20061109T200000
DTEND;TZID="Europe/Berlin":20061109T230000
LOCATION:Reichenhainer Str. 55\, Chemnitz (Mensa)
SUMMARY:TaC-Mensatreff: Globetrotter-Abend (TaC und StuRa)
DESCRIPTION:Der erste Globetrotter-Abend im TaC.\nStudenten der Tu-Chemnitz berichten über Ihre Reisen.\nHeute ein Vortrag über Vietnam und einer über Südamerika.\nEintritt frei.
ORGANIZER:MAILTO:piek@hrz.tu-chemnitz.de
UID:7983@www.tu-chemnitz.de
CREATED:20061109T151600Z
DTSTAMP:20210802T195148Z
END:VEVENT
END:VCALENDAR
