BEGIN:VCALENDAR
VERSION:2.0
PRODID:TU Chemnitz
METHOD:PUBLISH
X-WR-CALNAME:Veranstaltungen der TU Chemnitz
X-WR-TIMEZONE:Europe/Berlin
BEGIN:VEVENT
CLASS:PUBLIC
DTSTART;TZID="Europe/Berlin":20070123T171500
DTEND;TZID="Europe/Berlin":20070123T184500
LOCATION:Wilhelm-Raabe-Str. 43\, Chemnitz
SUMMARY:Forschungskolloquium Psychologie (Philosophische Fakultät\, Forschungsmethodik und Evaluation)
DESCRIPTION:"Diagnosen und Prognosen - Kausales Schließen unter Unsicherheit"\nProf. Dr. Thüring\nSekretariat\, Tel. 531 36420
ORGANIZER:MAILTO:TU Chemnitz
UID:7979@www.tu-chemnitz.de
CREATED:20061109T112100Z
DTSTAMP:20210802T195108Z
END:VEVENT
END:VCALENDAR
