BEGIN:VCALENDAR
VERSION:2.0
PRODID:TU Chemnitz
METHOD:PUBLISH
X-WR-CALNAME:Veranstaltungen der TU Chemnitz
X-WR-TIMEZONE:Europe/Berlin
BEGIN:VEVENT
CLASS:PUBLIC
DTSTART;TZID="Europe/Berlin":20061205T171500
DTEND;TZID="Europe/Berlin":20061205T184500
LOCATION:Wilhelm-Raabe-Str. 43\, Chemnitz
SUMMARY:Forschungskolloquium Psychologie (Philosophische Fakultät\, Forschungsmethodik und Evaluation)
DESCRIPTION:"Bootstrap oder die Kunst\, sich selbst aus dem Sumpf zu ziehen. Computerintensive Methoden der modernen Statistik"\nProf. Dr. Joachim Engel\nSekretariat\, Tel. 531 36420
ORGANIZER:MAILTO:TU Chemnitz
UID:7976@www.tu-chemnitz.de
CREATED:20061109T111600Z
DTSTAMP:20210802T195135Z
END:VEVENT
END:VCALENDAR
