BEGIN:VCALENDAR
VERSION:2.0
PRODID:TU Chemnitz
METHOD:PUBLISH
X-WR-CALNAME:Veranstaltungen der TU Chemnitz
X-WR-TIMEZONE:Europe/Berlin
BEGIN:VEVENT
CLASS:PUBLIC
DTSTART;TZID="Europe/Berlin":20061121T171500
DTEND;TZID="Europe/Berlin":20061121T184500
LOCATION:Wilhelm-Raabe-Str. 43\, Chemnitz
SUMMARY:Forschungskolloquium Psychologie (TU Chemnitz\, Forschungsmethodik und Evaluation)
DESCRIPTION:"Persönlichkeitstypen auf Basis der Big-Five: Forschungsstand und Perspektiven"\nDr. Philipp York Herzberg\nSekretariat\, Tel. 531 36420
ORGANIZER:MAILTO:TU Chemnitz
UID:7974@www.tu-chemnitz.de
CREATED:20061109T111200Z
DTSTAMP:20210802T195147Z
END:VEVENT
END:VCALENDAR
