BEGIN:VCALENDAR
VERSION:2.0
PRODID:TU Chemnitz
METHOD:PUBLISH
X-WR-CALNAME:Veranstaltungen der TU Chemnitz
X-WR-TIMEZONE:Europe/Berlin
BEGIN:VEVENT
CLASS:PUBLIC
DTSTART;TZID="Europe/Berlin":19991221T140000
DTEND;TZID="Europe/Berlin":19991221T160000
LOCATION:Institut für Mechatronik\, Reichenhainer Str. 88\, Seminarraum
SUMMARY:Einsatz flexibler Fluidaktoren in der Medizintechnik (Institut für Mechatronik e.V. an der TU Chemnitz)
DESCRIPTION:Die Veranstaltung findet im Rahmen des Institutskolloquiums 1999 am IfM statt. \nHerr Prof. Bretthauer ist der Direktor des Institutes für Angewandte Informatik am \nForschungszentrum Karlsruhe.\n\nProf. Dr.-Ing. habil. Georg Bretthauer\nFrau Hoppe\, Tel.: 0371/531-4671
ORGANIZER:MAILTO:hfreu@hrz.tu-chemnitz.de
UID:797@www.tu-chemnitz.de
CREATED:19991027T135500Z
DTSTAMP:20210802T203242Z
END:VEVENT
END:VCALENDAR
