BEGIN:VCALENDAR
VERSION:2.0
PRODID:TU Chemnitz
METHOD:PUBLISH
X-WR-CALNAME:Veranstaltungen der TU Chemnitz
X-WR-TIMEZONE:Europe/Berlin
BEGIN:VEVENT
CLASS:PUBLIC
DTSTART;TZID="Europe/Berlin":20061107T171500
DTEND;TZID="Europe/Berlin":20061107T184500
LOCATION:Wilhelm-Raabe-Str. 43\, Chemnitz
SUMMARY:Forschungskolloqiuim (Philosophische Fakultät\, Institut für Psychologie)
DESCRIPTION:"Towards a Social Psychology of History"\nProf. Dr. Denis Hilton\nProf. Dr. Sedlmeier\, Tel. 36420
ORGANIZER:MAILTO:sabine.dittrich@phil.tu-chemnitz.de
UID:7962@www.tu-chemnitz.de
CREATED:20061107T133600Z
DTSTAMP:20210802T195156Z
END:VEVENT
END:VCALENDAR
