BEGIN:VCALENDAR
VERSION:2.0
PRODID:TU Chemnitz
METHOD:PUBLISH
X-WR-CALNAME:Veranstaltungen der TU Chemnitz
X-WR-TIMEZONE:Europe/Berlin
BEGIN:VEVENT
CLASS:PUBLIC
DTSTART;TZID="Europe/Berlin":20061130T160000
DTEND;TZID="Europe/Berlin":20061130T160000
LOCATION:Str. der Nationen 62\, Chemnitz (Böttcher-Bau)
SUMMARY:Towards safer and cheaper rechargeable Batteries: New Trends in Lithium- and Sodium -Ion Batteries (Fakultät für Naturwissenschaften\, Institut für Chemie)
DESCRIPTION:Dr. Jiulin Wang \, TU Chemnitz\, Institut für Chemie und Shanghai Jiao Tong University\, P. R. China\nProf. Dr. Rudolf Holze\, Tel. 0371 531 21260\, E-Mail: rudolf.holze@chemie.tu-chemnitz.de
ORGANIZER:MAILTO:nora.younadam@chemie.tu-chemnitz.de
UID:7961@www.tu-chemnitz.de
CREATED:20061107T130800Z
DTSTAMP:20210802T195159Z
END:VEVENT
END:VCALENDAR
