BEGIN:VCALENDAR
VERSION:2.0
PRODID:TU Chemnitz
METHOD:PUBLISH
X-WR-CALNAME:Veranstaltungen der TU Chemnitz
X-WR-TIMEZONE:Europe/Berlin
BEGIN:VEVENT
CLASS:PUBLIC
DTSTART;TZID="Europe/Berlin":20061107T173000
DTEND;TZID="Europe/Berlin":20061107T230000
LOCATION:Reichenhainer Str. 55\, Chemnitz (Mensa)
SUMMARY:TaC: Bundesliga-Konferenz 1. und 2. Liga (TaC Mensatreff)
DESCRIPTION:Die Fußball-Bundesliga in der englischen Woche.\nDie Dienstags-Spiele in Konferenzschaltung live auf der Großleinwand.\nAlle sind herzlich eingeladen zum gemütlichen Fußball-Abend.\nEntritt frei.
ORGANIZER:MAILTO:piek@hrz.tu-chemnitz.de
UID:7951@www.tu-chemnitz.de
CREATED:20061106T220100Z
DTSTAMP:20210802T195146Z
END:VEVENT
END:VCALENDAR
