BEGIN:VCALENDAR
VERSION:2.0
PRODID:TU Chemnitz
METHOD:PUBLISH
X-WR-CALNAME:Veranstaltungen der TU Chemnitz
X-WR-TIMEZONE:Europe/Berlin
BEGIN:VEVENT
CLASS:PUBLIC
DTSTART;TZID="Europe/Berlin":20061108T190000
DTEND;TZID="Europe/Berlin":20061108T203000
LOCATION:Reichenhainer Str. 39\, Chemnitz
SUMMARY:Das Europäische System der Zentralbanken - ein Integrationsmodell? (Philosophische Fakultät\, Forum für Europäische Studien der TU Chemnitz)
DESCRIPTION:Frau Dr. Cornelia Manger-Nestler (Professur Jura I\, TU Chemnitz)
ORGANIZER:MAILTO:ines.goerg@phil.tu-chemnitz.de
UID:7947@www.tu-chemnitz.de
CREATED:20061106T101400Z
DTSTAMP:20210802T195154Z
END:VEVENT
END:VCALENDAR
