BEGIN:VCALENDAR
VERSION:2.0
PRODID:TU Chemnitz
METHOD:PUBLISH
X-WR-CALNAME:Veranstaltungen der TU Chemnitz
X-WR-TIMEZONE:Europe/Berlin
BEGIN:VEVENT
CLASS:PUBLIC
DTSTART;TZID="Europe/Berlin":20061116T153000
DTEND;TZID="Europe/Berlin":20061116T170000
LOCATION:Reichenhainer Str. 90\, Chemnitz (Zentr. Hörsaal- und Seminargebäude)
SUMMARY:Mechatronische Systeme in Kraftfahrzeugen (Fakultät für Elektrotechnik und Informationstechnik\, Elektrotechnisches Institut)
DESCRIPTION:Dr.-Ing. Martin März\, Fraunhofer IISB
ORGANIZER:MAILTO:jozi@hrz.tu-chemnitz.de
UID:7938@www.tu-chemnitz.de
CREATED:20061103T135200Z
DTSTAMP:20210802T195148Z
END:VEVENT
END:VCALENDAR
