BEGIN:VCALENDAR
VERSION:2.0
PRODID:TU Chemnitz
METHOD:PUBLISH
X-WR-CALNAME:Veranstaltungen der TU Chemnitz
X-WR-TIMEZONE:Europe/Berlin
BEGIN:VEVENT
CLASS:PUBLIC
DTSTART;TZID="Europe/Berlin":20061121T140000
DTEND;TZID="Europe/Berlin":20061121T200000
LOCATION:Reichenhainer Str. 90\, Chemnitz (Zentr. Hörsaal- und Seminargebäude)
SUMMARY:Fallstudienwettbewerb "Circle of Talents" (AIESEC in Chemnitz)
DESCRIPTION:Deine Möglichkeit\, praktische Erfahrungen in einem Unternehmen zu sammeln! Teilnahmevoraussetzungen: Du bist Student im Hauptstudium und wirtschaftlich interessiert. Bewerbungen werden bis 17.11.2006 entgegengenommen.\nMichael Schmidt und Silvio Hagen\, Deutsche Vermögensberatung AG\ncircle-of-talents@web.de
ORGANIZER:MAILTO:anja.schade@s2005.tu-chemnitz.de
UID:7937@www.tu-chemnitz.de
CREATED:20061102T221300Z
DTSTAMP:20210802T195145Z
END:VEVENT
END:VCALENDAR
