BEGIN:VCALENDAR
VERSION:2.0
PRODID:TU Chemnitz
METHOD:PUBLISH
X-WR-CALNAME:Veranstaltungen der TU Chemnitz
X-WR-TIMEZONE:Europe/Berlin
BEGIN:VEVENT
CLASS:PUBLIC
DTSTART;TZID="Europe/Berlin":20061110T150000
DTEND;TZID="Europe/Berlin":20061112T140000
LOCATION:siehe jeweils Programm
SUMMARY:3. WiWi-Alumni-Treffen 2006 (Fakultät für Wirtschaftswissenschaften\, WiWi-Alumni-Netzwerk)
DESCRIPTION:\nNetzwerk-Synergien:\n"Roundtable-Diskussion m. Praxisbezug & Insidertipps"\n\nBlick hinter die Kulissen:\n"Ein erfolgreicher Chemnitzer Industriebetrieb"\n\nPodiumsdiskussion:\n"Lehren & lernen wir d. Richtige?"\n\nplus: anregendes Abendprogr.\, Fußballturnier\,...\nProf. Dr. Folker Weißgerber\, Prof. Dr. Peter Pawlowsky\, Prof. Dr. Albrecht Mugler\, Dr. Andreas Schmalfuß\, Dipl.-Kfm.Raik Flämig\nAnmeldung unter http://www.tu-chemnitz.de/wirtschaft/alumni/treffen/ oder bei Frau Richter (marlene.richter@wirtschaft.tu-...)
ORGANIZER:MAILTO:ghof@hrz.tu-chemnitz.de
UID:7933@www.tu-chemnitz.de
CREATED:20061102T005900Z
DTSTAMP:20210802T195144Z
END:VEVENT
END:VCALENDAR
