BEGIN:VCALENDAR
VERSION:2.0
PRODID:TU Chemnitz
METHOD:PUBLISH
X-WR-CALNAME:Veranstaltungen der TU Chemnitz
X-WR-TIMEZONE:Europe/Berlin
BEGIN:VEVENT
CLASS:PUBLIC
DTSTART;TZID="Europe/Berlin":19991124T180000
DTEND;TZID="Europe/Berlin":19991124T200000
LOCATION:Mensa "Kompaß"
SUMMARY: Infoveranstaltung zu Kursangeboten des Studentenwerkes (Studentenwerk)
DESCRIPTION:- Berufs- ZIEL -Findung\n- Die Kunst für sich zu werben\n- DISG Persönlichkeitstraining\nFrank Günzel\nhttp://www.tu-chemnitz.de/stuwe
ORGANIZER:MAILTO:til@hrz.tu-chemnitz.de
UID:791@www.tu-chemnitz.de
CREATED:19991025T105300Z
DTSTAMP:20210802T203301Z
END:VEVENT
END:VCALENDAR
