BEGIN:VCALENDAR
VERSION:2.0
PRODID:TU Chemnitz
METHOD:PUBLISH
X-WR-CALNAME:Veranstaltungen der TU Chemnitz
X-WR-TIMEZONE:Europe/Berlin
BEGIN:VEVENT
CLASS:PUBLIC
DTSTART;TZID="Europe/Berlin":20061115T171500
DTEND;TZID="Europe/Berlin":20061115T184500
LOCATION:Reichenhainer Str. 90\, Chemnitz (Zentr. Hörsaal- und Seminargebäude)
SUMMARY:Physikalisches Kolloquium:"Block copolymers under external fields" (Fakultät für Naturwissenschaften\, Institut für Physik)
DESCRIPTION:Dr. Andrei V. Zvelindovsky; University of Lancashire\, UK\nProf. Dr. Robert Magerle; Tel: 531-38033
ORGANIZER:MAILTO:michaela.knierim@physik.tu-chemnitz.de
UID:7909@www.tu-chemnitz.de
CREATED:20061026T150000Z
DTSTAMP:20210802T195157Z
END:VEVENT
END:VCALENDAR
