BEGIN:VCALENDAR
VERSION:2.0
PRODID:TU Chemnitz
METHOD:PUBLISH
X-WR-CALNAME:Veranstaltungen der TU Chemnitz
X-WR-TIMEZONE:Europe/Berlin
BEGIN:VEVENT
CLASS:PUBLIC
DTSTART;TZID="Europe/Berlin":19991116T150000
DTEND;TZID="Europe/Berlin":19991116T150000
LOCATION:Uni-Teil 3: Reichenhainer Str. 70\, Chemnitz (Rühlmann-Bau)
SUMMARY:27. Tribologie-Kolloquium des GfT Arbeitskreises Sachsen: "Bildung von Trennschichten in oszillierend betriebenen Gleit- und Wälzlagern" (Fakultät für Maschinenbau und Verfahrenstechnik\, Institut für Konstruktions- und Antriebstechnik\, Professur Tribologie)
DESCRIPTION:Dr. Thiede\nChrista Michler\, Tel. 5 31-80 79
ORGANIZER:MAILTO:iroe@hrz.tu-chemnitz.de
UID:790@www.tu-chemnitz.de
CREATED:19991025T102800Z
DTSTAMP:20210802T203305Z
END:VEVENT
END:VCALENDAR
