BEGIN:VCALENDAR
VERSION:2.0
PRODID:TU Chemnitz
METHOD:PUBLISH
X-WR-CALNAME:Veranstaltungen der TU Chemnitz
X-WR-TIMEZONE:Europe/Berlin
BEGIN:VEVENT
CLASS:PUBLIC
DTSTART;TZID="Europe/Berlin":20061127T130000
DTEND;TZID="Europe/Berlin":20061127T134500
LOCATION:Reichenhainer Str. 70\, Chemnitz (Weinhold-Bau)
SUMMARY:Führung durch die Teilbibliothek Natur- und Ingenieurwissenschaften (TU Chemnitz)
DESCRIPTION:
ORGANIZER:MAILTO:sigo@hrz.tu-chemnitz.de
UID:7895@www.tu-chemnitz.de
CREATED:20061025T125100Z
DTSTAMP:20210802T195202Z
END:VEVENT
END:VCALENDAR
