BEGIN:VCALENDAR
VERSION:2.0
PRODID:TU Chemnitz
METHOD:PUBLISH
X-WR-CALNAME:Veranstaltungen der TU Chemnitz
X-WR-TIMEZONE:Europe/Berlin
BEGIN:VEVENT
CLASS:PUBLIC
DTSTART;TZID="Europe/Berlin":20061028T100000
DTEND;TZID="Europe/Berlin":20061028T120000
LOCATION:Rothaus e.V.\, Lohstraße 2\, 09111 Chemnitz
SUMMARY:Hammer\, Zirkel\, Hakenkreuz - Wie antifaschistisch war die DDR? (Rosa-Luxemburg-Stiftung)
DESCRIPTION:Natürlich gab es im Osten Deutschlands einige Parteigänger\nder Nationalsozialisten. Sie mussten\, wie auch im Westen\,\nin die neue Gesellschaft integriert werden. Die Frage aber\nwar und ist: Wie geschah das?\nProf. Dr. Detlef Joseph (Berlin)\nEintritt frei / Informationen über die Bibliothek der RLS in Chemnitz: 0371/5382718
ORGANIZER:MAILTO:tki@hrz.tu-chemnitz.de
UID:7881@www.tu-chemnitz.de
CREATED:20061023T205900Z
DTSTAMP:20210802T195226Z
END:VEVENT
END:VCALENDAR
