BEGIN:VCALENDAR
VERSION:2.0
PRODID:TU Chemnitz
METHOD:PUBLISH
X-WR-CALNAME:Veranstaltungen der TU Chemnitz
X-WR-TIMEZONE:Europe/Berlin
BEGIN:VEVENT
CLASS:PUBLIC
DTSTART;TZID="Europe/Berlin":19991027T193000
DTEND;TZID="Europe/Berlin":19991027T193000
LOCATION:Uni-Teil 1: Bahnhofstr. 8\, Chemnitz (Int. Begegnungs- und Informationszentrum)
SUMMARY:Lesung mit Friedrich Reinhard Schmidt (Philosophische Fakultät)
DESCRIPTION:
ORGANIZER:MAILTO:sul@hrz.tu-chemnitz.de
UID:787@www.tu-chemnitz.de
CREATED:19991022T110100Z
DTSTAMP:20210802T203318Z
END:VEVENT
END:VCALENDAR
