BEGIN:VCALENDAR
VERSION:2.0
PRODID:TU Chemnitz
METHOD:PUBLISH
X-WR-CALNAME:Veranstaltungen der TU Chemnitz
X-WR-TIMEZONE:Europe/Berlin
BEGIN:VEVENT
CLASS:PUBLIC
DTSTART;TZID="Europe/Berlin":20061115T160000
DTEND;TZID="Europe/Berlin":20061115T173000
LOCATION:Str. der Nationen 62\, Chemnitz (Böttcher-Bau)
SUMMARY:Literaturrecherchen und Volltextbeschaffung - die UB Chemnitz im Web (Universitätsbibliothek)
DESCRIPTION:Anmeldung unbedingt erforderlich!\nDagmar Hesse\nnutzerschulung@bibliothek.tu-chemnitz.de
ORGANIZER:MAILTO:sigo@hrz.tu-chemnitz.de
UID:7861@www.tu-chemnitz.de
CREATED:20061023T110400Z
DTSTAMP:20210802T195152Z
END:VEVENT
END:VCALENDAR
