BEGIN:VCALENDAR
VERSION:2.0
PRODID:TU Chemnitz
METHOD:PUBLISH
X-WR-CALNAME:Veranstaltungen der TU Chemnitz
X-WR-TIMEZONE:Europe/Berlin
BEGIN:VEVENT
CLASS:PUBLIC
DTSTART;TZID="Europe/Berlin":20061030T200000
DTEND;TZID="Europe/Berlin":20061030T220000
LOCATION:Armes Theater e.V.\, Schönherrfabrik\, Schönherrstr. 8
SUMMARY:Salome - Gastspiel der Kompania Doomsday\, Bialystok (Initiative Europastudien e.V.\, Studentenwerk Chemnitz - Zwickau und Armes Theater e.V.)
DESCRIPTION:Salomé - das Trauma der Moderne\, das Drama der Unmäßigkeit des Begehrens\, einer Liebe\, die sich der Sprache des Wahnsinns bedient und gerade in der Ermordung des Geliebten das Menschliche in äußerster Nacktheit zeigt. Sprachen: dt.\, engl.\, franz\, polnisch
ORGANIZER:MAILTO:jennifer.pogerth@s2004.tu-chemnitz.de
UID:7842@www.tu-chemnitz.de
CREATED:20061020T181000Z
DTSTAMP:20210802T195216Z
END:VEVENT
END:VCALENDAR
