BEGIN:VCALENDAR
VERSION:2.0
PRODID:TU Chemnitz
METHOD:PUBLISH
X-WR-CALNAME:Veranstaltungen der TU Chemnitz
X-WR-TIMEZONE:Europe/Berlin
BEGIN:VEVENT
CLASS:PUBLIC
DTSTART;TZID="Europe/Berlin":20061024T103000
DTEND;TZID="Europe/Berlin":20061024T113000
LOCATION:Reichenhainer Str. 90\, Chemnitz (Zentr. Hörsaal- und Seminargebäude)
SUMMARY:Simulation und objektive Analyse nicht-stationärer Stimmlippenschwingungen mittels biomechanischer Modelle (Fakultät für Elektrotechnik und Informationstechnik\, Professur Schaltkreis- und Systementwurf SSE)
DESCRIPTION:Dipl.-Ing. Tobias Wurzbacher\, Universitätsklinikum Erlangen\, Abt. f. Phoniatrie und Pädaudiologie
ORGANIZER:MAILTO:silvia.eppendorfer@hrz.tu-chemnitz.de
UID:7838@www.tu-chemnitz.de
CREATED:20061020T124000Z
DTSTAMP:20210802T195222Z
END:VEVENT
END:VCALENDAR
