BEGIN:VCALENDAR
VERSION:2.0
PRODID:TU Chemnitz
METHOD:PUBLISH
X-WR-CALNAME:Veranstaltungen der TU Chemnitz
X-WR-TIMEZONE:Europe/Berlin
BEGIN:VEVENT
CLASS:PUBLIC
DTSTART;TZID="Europe/Berlin":19991019T190000
DTEND;TZID="Europe/Berlin":19991019T213000
LOCATION:Uni-Teil 3: Reichenhainer Str. 70\, Chemnitz (Zentr. Hörsaal- und Seminargebäude)
SUMMARY:Action Rober Schuman (Fakultät für Wirtschaftswissenschaften\, Jura II)
DESCRIPTION:Diese Veranstaltung richtet sich an examinierte Juristen\naller Tätigkeitsbereiche - Richter\, Staatsanwälte\, \nWirtschafts- und Verwaltungsjuristen und Rechtsanwälte.\n
ORGANIZER:MAILTO:yvonne.kreher@wirtschaft.tu-chemnitz.de
UID:783@www.tu-chemnitz.de
CREATED:19991015T150600Z
DTSTAMP:20210802T203310Z
END:VEVENT
END:VCALENDAR
