BEGIN:VCALENDAR
VERSION:2.0
PRODID:TU Chemnitz
METHOD:PUBLISH
X-WR-CALNAME:Veranstaltungen der TU Chemnitz
X-WR-TIMEZONE:Europe/Berlin
BEGIN:VEVENT
CLASS:PUBLIC
DTSTART;TZID="Europe/Berlin":20061213T173000
DTEND;TZID="Europe/Berlin":20061213T190000
LOCATION:Reichenhainer Str. 70\, Chemnitz (Rühlmann-Bau)
SUMMARY:Berufsfeld Entwicklungszusammenarbeit (Agentur für Arbeit Chemnitz/Hochschulteam)
DESCRIPTION:Erfahrungsberichte\, Anforderungsprofile\, Chancen\nFrau Otto\, "ded" Deutscher Entwicklungsdienst\nChemnitz.Hochschulteam@arbeitsagentur.de
ORGANIZER:MAILTO:evelin.haeusler@verwaltung.tu-chemnitz.de
UID:7824@www.tu-chemnitz.de
CREATED:20061020T095000Z
DTSTAMP:20210802T195127Z
END:VEVENT
END:VCALENDAR
