BEGIN:VCALENDAR
VERSION:2.0
PRODID:TU Chemnitz
METHOD:PUBLISH
X-WR-CALNAME:Veranstaltungen der TU Chemnitz
X-WR-TIMEZONE:Europe/Berlin
BEGIN:VEVENT
CLASS:PUBLIC
DTSTART;TZID="Europe/Berlin":20061121T190000
DTEND;TZID="Europe/Berlin":20061122T040000
LOCATION:Reichenhainer Str. 37\, PEB Studentenkeller
SUMMARY:Mikes Caipi Party #10 (TU Chemnitz\, PEB Studentenkeller)
DESCRIPTION:Wie immer gibt es NUR Caipis\, in verschiedenen Arten\, und jeder kostet 2 Euro.\n\nWer hätte es gedacht ... die 10. Caipi-Party steht auf dem Programm. Wer nicht dabei sein möchte\, ist selber schuld :-)
ORGANIZER:MAILTO:1.11@gmx.de
UID:7806@www.tu-chemnitz.de
CREATED:20061016T212800Z
DTSTAMP:20210802T195156Z
END:VEVENT
END:VCALENDAR
