BEGIN:VCALENDAR
VERSION:2.0
PRODID:TU Chemnitz
METHOD:PUBLISH
X-WR-CALNAME:Veranstaltungen der TU Chemnitz
X-WR-TIMEZONE:Europe/Berlin
BEGIN:VEVENT
CLASS:PUBLIC
DTSTART;TZID="Europe/Berlin":20061019T193000
DTEND;TZID="Europe/Berlin":20061019T193000
LOCATION:Reichenhainer Str. 55\, Chemnitz (Mensa)
SUMMARY:Unifilm - Elementarteilchen (Unifilm Chemnitz)
DESCRIPTION:"Elementarteilchen" zeichnet ein schockierendes Portrait eines ungleichen Brüderpaars. Gelungener und tiefgründiger Film mit dem schauspielerischen "Who is Who" Deutschlands.\nEinlass: bereits 19.30 Uhr; Beginn: 20.30 Uhr; Eintritt: sparsame 1\,50€!!
ORGANIZER:MAILTO:frsche@hrz.tu-chemnitz.de
UID:7800@www.tu-chemnitz.de
CREATED:20061016T114100Z
DTSTAMP:20210802T195223Z
END:VEVENT
END:VCALENDAR
