BEGIN:VCALENDAR
VERSION:2.0
PRODID:TU Chemnitz
METHOD:PUBLISH
X-WR-CALNAME:Veranstaltungen der TU Chemnitz
X-WR-TIMEZONE:Europe/Berlin
BEGIN:VEVENT
CLASS:PUBLIC
DTSTART;TZID="Europe/Berlin":19991029T114500
DTEND;TZID="Europe/Berlin":19991029T131500
LOCATION:Uni-Teil 3: Reichenhainer Str. 70\, Chemnitz (Rühlmann-Bau)
SUMMARY:Ergänzung des Mehrgitterverfahrens durch Krylov-Unterraumverfahren zur Losung der Helmholtz-Gleichung (Fakultät für Mathematik\, SFB 393)
DESCRIPTION:Mathematisches SFB-Seminar\nO. Ernst (Freiberg)\nDr. Apel\, 531 2146\, apel@mathematik.tu-chemnitz.de
ORGANIZER:MAILTO:apel@mathematik.tu-chemnitz.de
UID:780@www.tu-chemnitz.de
CREATED:19991014T164300Z
DTSTAMP:20210802T203311Z
END:VEVENT
END:VCALENDAR
