BEGIN:VCALENDAR
VERSION:2.0
PRODID:TU Chemnitz
METHOD:PUBLISH
X-WR-CALNAME:Veranstaltungen der TU Chemnitz
X-WR-TIMEZONE:Europe/Berlin
BEGIN:VEVENT
CLASS:PUBLIC
DTSTART;TZID="Europe/Berlin":20061011T210000
DTEND;TZID="Europe/Berlin":20061012T030000
LOCATION:Reichenhainer Str. 55\, Chemnitz (Mensa)
SUMMARY:"5 Jahre Mensa" Party in der Mensa (Studentenwerk\, und Treff am Campus)
DESCRIPTION:Die Bands "Liquido" und "Thor" geben sich die Ehre zur 5-Jahresfeier in der Mensa zu spielen. Außerdem 2 Discofloors. \nRestkarten gibt´s an der Abendkasse.
ORGANIZER:MAILTO:piek@hrz.tu-chemnitz.de
UID:7779@www.tu-chemnitz.de
CREATED:20061010T220100Z
DTSTAMP:20210802T195225Z
END:VEVENT
END:VCALENDAR
