BEGIN:VCALENDAR
VERSION:2.0
PRODID:TU Chemnitz
METHOD:PUBLISH
X-WR-CALNAME:Veranstaltungen der TU Chemnitz
X-WR-TIMEZONE:Europe/Berlin
BEGIN:VEVENT
CLASS:PUBLIC
DTSTART;TZID="Europe/Berlin":20061010T210000
DTEND;TZID="Europe/Berlin":20061010T235900
LOCATION:Peb-Studentenkeller\, Rh37\, Keller
SUMMARY:Live: L.E.G.O sputnik (PEB-Studentenkeller)
DESCRIPTION:Im Rahmen von campus@night heute live im PEB: L.E.G.O sputnik.\nUnd als Vorband die (fast) kleinste Ketten-Car-Coverband Deutschlands: L.E.G.O. duplo.\nNebenan die Sieger des DJ Contest: dj garnier und dj prodomo.
ORGANIZER:MAILTO:schneide@hrz.tu-chemnitz.de
UID:7778@www.tu-chemnitz.de
CREATED:20061010T214300Z
DTSTAMP:20210802T195219Z
END:VEVENT
END:VCALENDAR
