BEGIN:VCALENDAR
VERSION:2.0
PRODID:TU Chemnitz
METHOD:PUBLISH
X-WR-CALNAME:Veranstaltungen der TU Chemnitz
X-WR-TIMEZONE:Europe/Berlin
BEGIN:VEVENT
CLASS:PUBLIC
DTSTART;TZID="Europe/Berlin":20061013T203000
DTEND;TZID="Europe/Berlin":20061014T040000
LOCATION:Reichenhainer Str. 55\, Chemnitz (Mensa)
SUMMARY:Smirnoff-Night (dialog e.V.)
DESCRIPTION:Party nach russischer Art. Um in Stimmung zu kommen gibt es Smirnoff-Vodka und Kaviarhäppchen für lau (solange der Vorrat reicht)und anschließend serviert DJ Pozelujev einen bunten Mix aus russischem und internationalem Mainstream und Dancefloor.\nmarcel.patzig@dialog-ev.org
ORGANIZER:MAILTO:marcel.patzig@dialog-ev.org
UID:7776@www.tu-chemnitz.de
CREATED:20061010T125900Z
DTSTAMP:20210802T195222Z
END:VEVENT
END:VCALENDAR
