BEGIN:VCALENDAR
VERSION:2.0
PRODID:TU Chemnitz
METHOD:PUBLISH
X-WR-CALNAME:Veranstaltungen der TU Chemnitz
X-WR-TIMEZONE:Europe/Berlin
BEGIN:VEVENT
CLASS:PUBLIC
DTSTART;TZID="Europe/Berlin":20070118T154500
DTEND;TZID="Europe/Berlin":20070118T171500
LOCATION:Str. der Nationen 62\, Chemnitz (Böttcher-Bau)
SUMMARY:Info-Veranstaltung: Studium und Praktikum im Ausland (Internationales Universitätszentrum)
DESCRIPTION:Diese Veranstaltung gibt allgemeine Informationen zum Thema Studium und Praktikum im Ausland.\nFrau Lorenz
ORGANIZER:MAILTO:michael.funke@verwaltung.tu-chemnitz.de
UID:7775@www.tu-chemnitz.de
CREATED:20061010T125900Z
DTSTAMP:20210802T195116Z
END:VEVENT
END:VCALENDAR
