BEGIN:VCALENDAR
VERSION:2.0
PRODID:TU Chemnitz
METHOD:PUBLISH
X-WR-CALNAME:Veranstaltungen der TU Chemnitz
X-WR-TIMEZONE:Europe/Berlin
BEGIN:VEVENT
CLASS:PUBLIC
DTSTART;TZID="Europe/Berlin":20061018T080000
DTEND;TZID="Europe/Berlin":20061018T120000
LOCATION:Reichenhainer Str. 90\, Chemnitz (Zentr. Hörsaal- und Seminargebäude)
SUMMARY:Workshop Zeitmanagement (AIESEC in Chemnitz)
DESCRIPTION:* Analyse von „Zeitfressern“\n* Umgang mit Terminen\n* Organisation von Aufgaben zur Vermeidung von Stress und Hektik\n\nAnmeldung bitte bis zum 13.10.\nOlfo Pabst\, Techniker Krankenkasse\nanja.schade@s2005.tu-chemnitz.de
ORGANIZER:MAILTO:anja.schade@s2005.tu-chemnitz.de
UID:7767@www.tu-chemnitz.de
CREATED:20061010T122600Z
DTSTAMP:20210802T195228Z
END:VEVENT
END:VCALENDAR
