BEGIN:VCALENDAR
VERSION:2.0
PRODID:TU Chemnitz
METHOD:PUBLISH
X-WR-CALNAME:Veranstaltungen der TU Chemnitz
X-WR-TIMEZONE:Europe/Berlin
BEGIN:VEVENT
CLASS:PUBLIC
DTSTART;TZID="Europe/Berlin":20061014T200000
DTEND;TZID="Europe/Berlin":20061014T230000
LOCATION:Kompass - hinter dem Studentenwerk\, Thüringer Weg 3
SUMMARY:Sibirien Hautnah - Abenteurer am Baikalsee (Russisch Club - Club der Kulturen)
DESCRIPTION:Chemnitzer-Studenten berichten von ihrer Reise mit der Transsibirischen Eisenbahn nach Irkutsk und den Erlebnissen in der Region um und am Baikalsee. Ein Bilderabend über Land und Leute mit Vortrag und Musik.\nTeilnehmer der Sommerschule: Tino Hager\, Dominik Kern\, Jens Mehnert\, Philipp Siegel\nPhilipp Siegel\, Email: nospam.philipp.siegel@s2000.tu-chemnitz.de
ORGANIZER:MAILTO:phs@hrz.tu-chemnitz.de
UID:7760@www.tu-chemnitz.de
CREATED:20061009T214600Z
DTSTAMP:20210802T195219Z
END:VEVENT
END:VCALENDAR
