BEGIN:VCALENDAR
VERSION:2.0
PRODID:TU Chemnitz
METHOD:PUBLISH
X-WR-CALNAME:Veranstaltungen der TU Chemnitz
X-WR-TIMEZONE:Europe/Berlin
BEGIN:VEVENT
CLASS:PUBLIC
DTSTART;TZID="Europe/Berlin":20061019T160000
DTEND;TZID="Europe/Berlin":20061019T170000
LOCATION:Strasse der Nationen 62\, Hörsaal 1/232 (Mittelbau)
SUMMARY:Dünne Filme im Lichte evaneszenter Wellen (Fakultät für Naturwissenschaften\, gemeinsam mit dem Ortsverband der GDCh)
DESCRIPTION:Prof. Dr. Wolfgang Knoll\, Max-Planck-Institut für Polymerforschung Mainz\nDr. Matthias Lehmann\, Tel. 0371 531 31205
ORGANIZER:MAILTO:Matthias.Lehmann@chemie.tu-chemnitz.de
UID:7759@www.tu-chemnitz.de
CREATED:20061009T150300Z
DTSTAMP:20210802T195217Z
END:VEVENT
END:VCALENDAR
