BEGIN:VCALENDAR
VERSION:2.0
PRODID:TU Chemnitz
METHOD:PUBLISH
X-WR-CALNAME:Veranstaltungen der TU Chemnitz
X-WR-TIMEZONE:Europe/Berlin
BEGIN:VEVENT
CLASS:PUBLIC
DTSTART;TZID="Europe/Berlin":20061025T074500
DTEND;TZID="Europe/Berlin":20061025T074500
LOCATION:Mensaparkplatz
SUMMARY:Fahrt zur INOVA (VWI Hochschulgruppe Chemnitz)
DESCRIPTION:Für 10€ mit dem Bus zur Inova nach Ilmenau und zurück.\nDie Inova gehört zu den größten Hochschulkontaktmessen in Deutschland. - www.inova-online.de\nAnmeldung unter www.vwi-chemnitz.de/anmelden
ORGANIZER:MAILTO:tobias.lindner@s2000.tu-chemnitz.de
UID:7752@www.tu-chemnitz.de
CREATED:20061003T225900Z
DTSTAMP:20210802T195219Z
END:VEVENT
END:VCALENDAR
