BEGIN:VCALENDAR
VERSION:2.0
PRODID:TU Chemnitz
METHOD:PUBLISH
X-WR-CALNAME:Veranstaltungen der TU Chemnitz
X-WR-TIMEZONE:Europe/Berlin
BEGIN:VEVENT
CLASS:PUBLIC
DTSTART;TZID="Europe/Berlin":20061026T090000
DTEND;TZID="Europe/Berlin":20061026T170000
LOCATION:Str. der Nationen 62\, Chemnitz (Böttcher-Bau)
SUMMARY:Auftaktveranstaltung des Sächs.-Tschech. Hochschulkollegs (Philosophische Fakultät\, Sächsisch-Tschechisches Hochschulkolleg)
DESCRIPTION:Auftaktveranstaltung des Interreg IIIA-Projektes "Sächsisch-Tschechisches Hochschulkolleg" mit offiziellem Teil vormittags und interner Projektvorbereitung am Nachmittag\nIlona Scherm\, Tel. 531 34503\, ilona.scherm@phil.tu-chemnitz.de
ORGANIZER:MAILTO:ilona.scherm@phil.tu-chemnitz.de
UID:7739@www.tu-chemnitz.de
CREATED:20060929T151100Z
DTSTAMP:20210802T195218Z
END:VEVENT
END:VCALENDAR
