BEGIN:VCALENDAR
VERSION:2.0
PRODID:TU Chemnitz
METHOD:PUBLISH
X-WR-CALNAME:Veranstaltungen der TU Chemnitz
X-WR-TIMEZONE:Europe/Berlin
BEGIN:VEVENT
CLASS:PUBLIC
DTSTART;TZID="Europe/Berlin":20061123T090000
DTEND;TZID="Europe/Berlin":20061124T180000
LOCATION:Hotel "Chemnitzer Hof"
SUMMARY:Workshop Software Migration (Fakultät für Informatik\, Informationssysteme und Softwaretechnik)
DESCRIPTION:
ORGANIZER:MAILTO:mren@cs.tu-chemnitz.de
UID:7735@www.tu-chemnitz.de
CREATED:20060926T143900Z
DTSTAMP:20210802T195153Z
END:VEVENT
END:VCALENDAR
